BEGIN:VCALENDAR
VERSION:2.0
PRODID:-//A partnership between Artlink, Cherry Road, Thera, St. Joseph’s, enable, ELCAP and Local Area Coordination. - ECPv6.15.20//NONSGML v1.0//EN
CALSCALE:GREGORIAN
METHOD:PUBLISH
X-WR-CALNAME:A partnership between Artlink, Cherry Road, Thera, St. Joseph’s, enable, ELCAP and Local Area Coordination.
X-ORIGINAL-URL:https://thesocialprogramme.com
X-WR-CALDESC:Events for A partnership between Artlink, Cherry Road, Thera, St. Joseph’s, enable, ELCAP and Local Area Coordination.
REFRESH-INTERVAL;VALUE=DURATION:PT1H
X-Robots-Tag:noindex
X-PUBLISHED-TTL:PT1H
BEGIN:VTIMEZONE
TZID:UTC
BEGIN:STANDARD
TZOFFSETFROM:+0000
TZOFFSETTO:+0000
TZNAME:UTC
DTSTART:20250101T000000
END:STANDARD
END:VTIMEZONE
BEGIN:VEVENT
DTSTART;TZID=UTC:20260423T103000
DTEND;TZID=UTC:20260423T123000
DTSTAMP:20260423T155930
CREATED:20251217T112402Z
LAST-MODIFIED:20251217T112451Z
UID:2465-1776940200-1776947400@thesocialprogramme.com
SUMMARY:Daring Dalkeith Theatre Group
DESCRIPTION:
URL:https://thesocialprogramme.com/event/daring-dalkeith-theatre-group-20/
LOCATION:ONE Dalkeith\,\, 21 Eskdaill Street\, Dalkeith\, EH22 1AG
ATTACH;FMTTYPE=image/jpeg:https://thesocialprogramme.com/wp-content/uploads/2024/11/BOX_DARING_DALKEITH.jpg
ORGANIZER;CN="Annabel Bartle":MAILTO:annabel@artlinkedinburgh.co.uk
END:VEVENT
BEGIN:VEVENT
DTSTART;TZID=UTC:20260427T103000
DTEND;TZID=UTC:20260427T123000
DTSTAMP:20260423T155930
CREATED:20260402T133556Z
LAST-MODIFIED:20260402T133556Z
UID:2772-1777285800-1777293000@thesocialprogramme.com
SUMMARY:Theatre Skills - Audio Play!
DESCRIPTION:
URL:https://thesocialprogramme.com/event/theatre-skills-audio-play-2/
LOCATION:ONE Dalkeith\,\, 21 Eskdaill Street\, Dalkeith\, EH22 1AG
ATTACH;FMTTYPE=image/jpeg:https://thesocialprogramme.com/wp-content/uploads/2024/11/BOX_DARING_DALKEITH.jpg
ORGANIZER;CN="Annabel Bartle":MAILTO:annabel@artlinkedinburgh.co.uk
END:VEVENT
BEGIN:VEVENT
DTSTART;TZID=UTC:20260427T133000
DTEND;TZID=UTC:20260427T143000
DTSTAMP:20260423T155930
CREATED:20260313T140851Z
LAST-MODIFIED:20260313T140851Z
UID:2662-1777296600-1777300200@thesocialprogramme.com
SUMMARY:KIC Dance with Cheryl
DESCRIPTION:
URL:https://thesocialprogramme.com/event/kic-dance-with-cheryl-2/
LOCATION:KIC Studios\,\, Ironmills Park\, Dalkeith\, EH22 1JP\, United Kingdom
ATTACH;FMTTYPE=image/jpeg:https://thesocialprogramme.com/wp-content/uploads/2025/02/KIC_BOX.jpg
ORGANIZER;CN="Annabel Bartle":MAILTO:annabel@artlinkedinburgh.co.uk
END:VEVENT
BEGIN:VEVENT
DTSTART;TZID=UTC:20260429T100000
DTEND;TZID=UTC:20260429T120000
DTSTAMP:20260423T155930
CREATED:20260313T141758Z
LAST-MODIFIED:20260313T141758Z
UID:2684-1777456800-1777464000@thesocialprogramme.com
SUMMARY:The Makers - Animation with Emma Bowen
DESCRIPTION:
URL:https://thesocialprogramme.com/event/the-makers-animation-with-emma-bowen-4/
LOCATION:McSence\,\, McSence Business Park\, Sycamore Road\, Dalkeith\, EH22 5TA\, United Kingdom
ATTACH;FMTTYPE=image/jpeg:https://thesocialprogramme.com/wp-content/uploads/2025/04/BOX_MAKERS.jpg
ORGANIZER;CN="Annabel Bartle":MAILTO:annabel@artlinkedinburgh.co.uk
END:VEVENT
BEGIN:VEVENT
DTSTART;TZID=UTC:20260429T103000
DTEND;TZID=UTC:20260429T113000
DTSTAMP:20260423T155930
CREATED:20260402T132416Z
LAST-MODIFIED:20260402T132416Z
UID:2743-1777458600-1777462200@thesocialprogramme.com
SUMMARY:One Voice Allstars
DESCRIPTION:
URL:https://thesocialprogramme.com/event/one-voice-allstars-2/
LOCATION:ONE Dalkeith\,\, 21 Eskdaill Street\, Dalkeith\, EH22 1AG
ATTACH;FMTTYPE=image/jpeg:https://thesocialprogramme.com/wp-content/uploads/2026/04/BOX_ONEVOICE.jpg
ORGANIZER;CN="Annabel Bartle":MAILTO:annabel@artlinkedinburgh.co.uk
END:VEVENT
BEGIN:VEVENT
DTSTART;TZID=UTC:20260430T103000
DTEND;TZID=UTC:20260430T123000
DTSTAMP:20260423T155930
CREATED:20251217T112313Z
LAST-MODIFIED:20251217T112520Z
UID:2463-1777545000-1777552200@thesocialprogramme.com
SUMMARY:Daring Dalkeith Theatre Group
DESCRIPTION:
URL:https://thesocialprogramme.com/event/daring-dalkeith-theatre-group-19/
LOCATION:ONE Dalkeith\,\, 21 Eskdaill Street\, Dalkeith\, EH22 1AG
ATTACH;FMTTYPE=image/jpeg:https://thesocialprogramme.com/wp-content/uploads/2024/11/BOX_DARING_DALKEITH.jpg
ORGANIZER;CN="Annabel Bartle":MAILTO:annabel@artlinkedinburgh.co.uk
END:VEVENT
BEGIN:VEVENT
DTSTART;TZID=UTC:20260430T150000
DTEND;TZID=UTC:20260430T154000
DTSTAMP:20260423T155930
CREATED:20260326T103339Z
LAST-MODIFIED:20260326T103339Z
UID:2723-1777561200-1777563600@thesocialprogramme.com
SUMMARY:Thursday Live - DJCOFFEE80
DESCRIPTION:Brewlands.
URL:https://thesocialprogramme.com/event/thursday-live-djcoffee80/
ATTACH;FMTTYPE=image/jpeg:https://thesocialprogramme.com/wp-content/uploads/2025/01/TSP_TL_BOX.jpg
ORGANIZER;CN="Annabel Bartle":MAILTO:annabel@artlinkedinburgh.co.uk
END:VEVENT
END:VCALENDAR