BEGIN:VCALENDAR
VERSION:2.0
PRODID:-//A partnership between Artlink, Cherry Road, Thera, St. Joseph’s, enable, ELCAP and Local Area Coordination. - ECPv6.15.20//NONSGML v1.0//EN
CALSCALE:GREGORIAN
METHOD:PUBLISH
X-ORIGINAL-URL:https://thesocialprogramme.com
X-WR-CALDESC:Events for A partnership between Artlink, Cherry Road, Thera, St. Joseph’s, enable, ELCAP and Local Area Coordination.
REFRESH-INTERVAL;VALUE=DURATION:PT1H
X-Robots-Tag:noindex
X-PUBLISHED-TTL:PT1H
BEGIN:VTIMEZONE
TZID:UTC
BEGIN:STANDARD
TZOFFSETFROM:+0000
TZOFFSETTO:+0000
TZNAME:UTC
DTSTART:20250101T000000
END:STANDARD
END:VTIMEZONE
BEGIN:VEVENT
DTSTART;TZID=UTC:20260622T133000
DTEND;TZID=UTC:20260622T143000
DTSTAMP:20260423T214630
CREATED:20260313T141319Z
LAST-MODIFIED:20260313T141319Z
UID:2674-1782135000-1782138600@thesocialprogramme.com
SUMMARY:KIC Dance with Cheryl
DESCRIPTION:
URL:https://thesocialprogramme.com/event/kic-dance-with-cheryl-8/
LOCATION:KIC Studios\,\, Ironmills Park\, Dalkeith\, EH22 1JP\, United Kingdom
ATTACH;FMTTYPE=image/jpeg:https://thesocialprogramme.com/wp-content/uploads/2025/02/KIC_BOX.jpg
ORGANIZER;CN="Annabel Bartle":MAILTO:annabel@artlinkedinburgh.co.uk
END:VEVENT
BEGIN:VEVENT
DTSTART;TZID=UTC:20260624T103000
DTEND;TZID=UTC:20260624T113000
DTSTAMP:20260423T214630
CREATED:20260402T132938Z
LAST-MODIFIED:20260402T132938Z
UID:2760-1782297000-1782300600@thesocialprogramme.com
SUMMARY:One Voice Allstars
DESCRIPTION:
URL:https://thesocialprogramme.com/event/one-voice-allstars-10/
LOCATION:ONE Dalkeith\,\, 21 Eskdaill Street\, Dalkeith\, EH22 1AG
ATTACH;FMTTYPE=image/jpeg:https://thesocialprogramme.com/wp-content/uploads/2026/04/BOX_ONEVOICE.jpg
ORGANIZER;CN="Annabel Bartle":MAILTO:annabel@artlinkedinburgh.co.uk
END:VEVENT
BEGIN:VEVENT
DTSTART;TZID=UTC:20260625T103000
DTEND;TZID=UTC:20260625T123000
DTSTAMP:20260423T214630
CREATED:20251217T124444Z
LAST-MODIFIED:20251217T124537Z
UID:2479-1782383400-1782390600@thesocialprogramme.com
SUMMARY:Daring Dalkeith Theatre Group
DESCRIPTION:
URL:https://thesocialprogramme.com/event/daring-dalkeith-theatre-group-27/
LOCATION:ONE Dalkeith\,\, 21 Eskdaill Street\, Dalkeith\, EH22 1AG
ATTACH;FMTTYPE=image/jpeg:https://thesocialprogramme.com/wp-content/uploads/2024/11/BOX_DARING_DALKEITH.jpg
ORGANIZER;CN="Annabel Bartle":MAILTO:annabel@artlinkedinburgh.co.uk
END:VEVENT
BEGIN:VEVENT
DTSTART;TZID=UTC:20260629T133000
DTEND;TZID=UTC:20260629T143000
DTSTAMP:20260423T214630
CREATED:20260313T141402Z
LAST-MODIFIED:20260313T141402Z
UID:2676-1782739800-1782743400@thesocialprogramme.com
SUMMARY:KIC Dance with Cheryl
DESCRIPTION:
URL:https://thesocialprogramme.com/event/kic-dance-with-cheryl-9/
LOCATION:KIC Studios\,\, Ironmills Park\, Dalkeith\, EH22 1JP\, United Kingdom
ATTACH;FMTTYPE=image/jpeg:https://thesocialprogramme.com/wp-content/uploads/2025/02/KIC_BOX.jpg
ORGANIZER;CN="Annabel Bartle":MAILTO:annabel@artlinkedinburgh.co.uk
END:VEVENT
BEGIN:VEVENT
DTSTART;TZID=UTC:20260630T140000
DTEND;TZID=UTC:20260630T153000
DTSTAMP:20260423T214630
CREATED:20260423T133625Z
LAST-MODIFIED:20260423T133625Z
UID:2797-1782828000-1782833400@thesocialprogramme.com
SUMMARY:Tuesday Club - ABBA Tribute
DESCRIPTION:
URL:https://thesocialprogramme.com/event/tuesday-club-abba-tribute/
LOCATION:St Matthew’s Church Hall\,\, 36 Carnethie Street\, Roswell\, United Kingdom
ATTACH;FMTTYPE=image/jpeg:https://thesocialprogramme.com/wp-content/uploads/2024/12/TUESDAY_CLUB_BOX-scaled.jpg
ORGANIZER;CN="Mandy Burgen":MAILTO:Mandy.Burgen@stjosephsservice.co.uk
END:VEVENT
BEGIN:VEVENT
DTSTART;TZID=UTC:20260806T103000
DTEND;TZID=UTC:20260806T123000
DTSTAMP:20260423T214630
CREATED:20251217T124639Z
LAST-MODIFIED:20251217T144534Z
UID:2481-1786012200-1786019400@thesocialprogramme.com
SUMMARY:Daring Dalkeith Theatre Group
DESCRIPTION:
URL:https://thesocialprogramme.com/event/daring-dalkeith-theatre-group-28/
LOCATION:ONE Dalkeith\,\, 21 Eskdaill Street\, Dalkeith\, EH22 1AG
ATTACH;FMTTYPE=image/jpeg:https://thesocialprogramme.com/wp-content/uploads/2024/11/BOX_DARING_DALKEITH.jpg
ORGANIZER;CN="Annabel Bartle":MAILTO:annabel@artlinkedinburgh.co.uk
END:VEVENT
BEGIN:VEVENT
DTSTART;TZID=UTC:20260813T103000
DTEND;TZID=UTC:20260813T123000
DTSTAMP:20260423T214630
CREATED:20251217T144623Z
LAST-MODIFIED:20251217T144623Z
UID:2483-1786617000-1786624200@thesocialprogramme.com
SUMMARY:Daring Dalkeith Theatre Group
DESCRIPTION:
URL:https://thesocialprogramme.com/event/daring-dalkeith-theatre-group-29/
LOCATION:ONE Dalkeith\,\, 21 Eskdaill Street\, Dalkeith\, EH22 1AG
ATTACH;FMTTYPE=image/jpeg:https://thesocialprogramme.com/wp-content/uploads/2024/11/BOX_DARING_DALKEITH.jpg
ORGANIZER;CN="Annabel Bartle":MAILTO:annabel@artlinkedinburgh.co.uk
END:VEVENT
BEGIN:VEVENT
DTSTART;TZID=UTC:20260818T190000
DTEND;TZID=UTC:20260818T210000
DTSTAMP:20260423T214630
CREATED:20251211T114719Z
LAST-MODIFIED:20251211T114719Z
UID:2340-1787079600-1787086800@thesocialprogramme.com
SUMMARY:Karaoke Night
DESCRIPTION:
URL:https://thesocialprogramme.com/event/karaoke-night-16/
LOCATION:The Black Bull\,\, 1 Lothian Street\, Dalkeith\, EH22 1DS\, United Kingdom
ATTACH;FMTTYPE=image/jpeg:https://thesocialprogramme.com/wp-content/uploads/2025/09/TSP_25_BOX_KARAOKE-1.jpg
ORGANIZER;CN="Annabel Bartle":MAILTO:annabel@artlinkedinburgh.co.uk
END:VEVENT
BEGIN:VEVENT
DTSTART;TZID=UTC:20260820T103000
DTEND;TZID=UTC:20260820T123000
DTSTAMP:20260423T214630
CREATED:20251217T144711Z
LAST-MODIFIED:20251217T144711Z
UID:2485-1787221800-1787229000@thesocialprogramme.com
SUMMARY:Daring Dalkeith Theatre Group
DESCRIPTION:
URL:https://thesocialprogramme.com/event/daring-dalkeith-theatre-group-30/
LOCATION:ONE Dalkeith\,\, 21 Eskdaill Street\, Dalkeith\, EH22 1AG
ATTACH;FMTTYPE=image/jpeg:https://thesocialprogramme.com/wp-content/uploads/2024/11/BOX_DARING_DALKEITH.jpg
ORGANIZER;CN="Annabel Bartle":MAILTO:annabel@artlinkedinburgh.co.uk
END:VEVENT
BEGIN:VEVENT
DTSTART;TZID=UTC:20260827T103000
DTEND;TZID=UTC:20260827T123000
DTSTAMP:20260423T214630
CREATED:20251217T145242Z
LAST-MODIFIED:20251217T145242Z
UID:2490-1787826600-1787833800@thesocialprogramme.com
SUMMARY:Daring Dalkeith Theatre Group
DESCRIPTION:
URL:https://thesocialprogramme.com/event/daring-dalkeith-theatre-group-31/
LOCATION:ONE Dalkeith\,\, 21 Eskdaill Street\, Dalkeith\, EH22 1AG
ATTACH;FMTTYPE=image/jpeg:https://thesocialprogramme.com/wp-content/uploads/2024/11/BOX_DARING_DALKEITH.jpg
ORGANIZER;CN="Annabel Bartle":MAILTO:annabel@artlinkedinburgh.co.uk
END:VEVENT
BEGIN:VEVENT
DTSTART;TZID=UTC:20260903T103000
DTEND;TZID=UTC:20260903T123000
DTSTAMP:20260423T214630
CREATED:20251217T145333Z
LAST-MODIFIED:20251217T145333Z
UID:2492-1788431400-1788438600@thesocialprogramme.com
SUMMARY:Daring Dalkeith Theatre Group
DESCRIPTION:
URL:https://thesocialprogramme.com/event/daring-dalkeith-theatre-group-32/
LOCATION:ONE Dalkeith\,\, 21 Eskdaill Street\, Dalkeith\, EH22 1AG
ATTACH;FMTTYPE=image/jpeg:https://thesocialprogramme.com/wp-content/uploads/2024/11/BOX_DARING_DALKEITH.jpg
ORGANIZER;CN="Annabel Bartle":MAILTO:annabel@artlinkedinburgh.co.uk
END:VEVENT
BEGIN:VEVENT
DTSTART;TZID=UTC:20260910T103000
DTEND;TZID=UTC:20260910T123000
DTSTAMP:20260423T214630
CREATED:20251217T151110Z
LAST-MODIFIED:20251217T151110Z
UID:2494-1789036200-1789043400@thesocialprogramme.com
SUMMARY:Daring Dalkeith Theatre Group
DESCRIPTION:
URL:https://thesocialprogramme.com/event/daring-dalkeith-theatre-group-33/
LOCATION:ONE Dalkeith\,\, 21 Eskdaill Street\, Dalkeith\, EH22 1AG
ATTACH;FMTTYPE=image/jpeg:https://thesocialprogramme.com/wp-content/uploads/2024/11/BOX_DARING_DALKEITH.jpg
ORGANIZER;CN="Annabel Bartle":MAILTO:annabel@artlinkedinburgh.co.uk
END:VEVENT
BEGIN:VEVENT
DTSTART;TZID=UTC:20260914T103000
DTEND;TZID=UTC:20260914T123000
DTSTAMP:20260423T214630
CREATED:20251217T151334Z
LAST-MODIFIED:20251217T151334Z
UID:2496-1789381800-1789389000@thesocialprogramme.com
SUMMARY:Daring Dalkeith Theatre Group
DESCRIPTION:
URL:https://thesocialprogramme.com/event/daring-dalkeith-theatre-group-34/
LOCATION:ONE Dalkeith\,\, 21 Eskdaill Street\, Dalkeith\, EH22 1AG
ORGANIZER;CN="Annabel Bartle":MAILTO:annabel@artlinkedinburgh.co.uk
END:VEVENT
BEGIN:VEVENT
DTSTART;TZID=UTC:20260915T103000
DTEND;TZID=UTC:20260915T123000
DTSTAMP:20260423T214630
CREATED:20251217T151615Z
LAST-MODIFIED:20251217T151615Z
UID:2500-1789468200-1789475400@thesocialprogramme.com
SUMMARY:Daring Dalkeith Theatre Group
DESCRIPTION:
URL:https://thesocialprogramme.com/event/daring-dalkeith-theatre-group-35/
LOCATION:ONE Dalkeith\,\, 21 Eskdaill Street\, Dalkeith\, EH22 1AG
ATTACH;FMTTYPE=image/jpeg:https://thesocialprogramme.com/wp-content/uploads/2024/11/BOX_DARING_DALKEITH.jpg
ORGANIZER;CN="Annabel Bartle":MAILTO:annabel@artlinkedinburgh.co.uk
END:VEVENT
BEGIN:VEVENT
DTSTART;TZID=UTC:20260915T190000
DTEND;TZID=UTC:20260915T210000
DTSTAMP:20260423T214630
CREATED:20251211T114805Z
LAST-MODIFIED:20251211T114805Z
UID:2342-1789498800-1789506000@thesocialprogramme.com
SUMMARY:Karaoke Night
DESCRIPTION:
URL:https://thesocialprogramme.com/event/karaoke-night-17/
LOCATION:The Black Bull\,\, 1 Lothian Street\, Dalkeith\, EH22 1DS\, United Kingdom
ATTACH;FMTTYPE=image/jpeg:https://thesocialprogramme.com/wp-content/uploads/2025/09/TSP_25_BOX_KARAOKE-1.jpg
ORGANIZER;CN="Annabel Bartle":MAILTO:annabel@artlinkedinburgh.co.uk
END:VEVENT
BEGIN:VEVENT
DTSTART;TZID=UTC:20260916T103000
DTEND;TZID=UTC:20260916T123000
DTSTAMP:20260423T214630
CREATED:20251217T151715Z
LAST-MODIFIED:20251217T151715Z
UID:2502-1789554600-1789561800@thesocialprogramme.com
SUMMARY:Daring Dalkeith Theatre Group
DESCRIPTION:
URL:https://thesocialprogramme.com/event/daring-dalkeith-theatre-group-36/
LOCATION:ONE Dalkeith\,\, 21 Eskdaill Street\, Dalkeith\, EH22 1AG
ATTACH;FMTTYPE=image/jpeg:https://thesocialprogramme.com/wp-content/uploads/2024/11/BOX_DARING_DALKEITH.jpg
ORGANIZER;CN="Annabel Bartle":MAILTO:annabel@artlinkedinburgh.co.uk
END:VEVENT
BEGIN:VEVENT
DTSTART;TZID=UTC:20260924T103000
DTEND;TZID=UTC:20260924T123000
DTSTAMP:20260423T214630
CREATED:20251217T151933Z
LAST-MODIFIED:20251217T151933Z
UID:2505-1790245800-1790253000@thesocialprogramme.com
SUMMARY:Daring Dalkeith Theatre Group
DESCRIPTION:
URL:https://thesocialprogramme.com/event/daring-dalkeith-theatre-group-37/
LOCATION:ONE Dalkeith\,\, 21 Eskdaill Street\, Dalkeith\, EH22 1AG
ATTACH;FMTTYPE=image/jpeg:https://thesocialprogramme.com/wp-content/uploads/2024/11/BOX_DARING_DALKEITH.jpg
ORGANIZER;CN="Annabel Bartle":MAILTO:annabel@artlinkedinburgh.co.uk
END:VEVENT
BEGIN:VEVENT
DTSTART;TZID=UTC:20261020T190000
DTEND;TZID=UTC:20261020T210000
DTSTAMP:20260423T214630
CREATED:20251211T114925Z
LAST-MODIFIED:20251211T114925Z
UID:2344-1792522800-1792530000@thesocialprogramme.com
SUMMARY:Karaoke Night
DESCRIPTION:
URL:https://thesocialprogramme.com/event/karaoke-night-18/
LOCATION:The Black Bull\,\, 1 Lothian Street\, Dalkeith\, EH22 1DS\, United Kingdom
ATTACH;FMTTYPE=image/jpeg:https://thesocialprogramme.com/wp-content/uploads/2025/09/TSP_25_BOX_KARAOKE-1.jpg
ORGANIZER;CN="Annabel Bartle":MAILTO:annabel@artlinkedinburgh.co.uk
END:VEVENT
BEGIN:VEVENT
DTSTART;TZID=UTC:20261117T190000
DTEND;TZID=UTC:20261117T210000
DTSTAMP:20260423T214630
CREATED:20251211T115012Z
LAST-MODIFIED:20251211T115012Z
UID:2346-1794942000-1794949200@thesocialprogramme.com
SUMMARY:Karaoke Night
DESCRIPTION:
URL:https://thesocialprogramme.com/event/karaoke-night-19/
LOCATION:The Black Bull\,\, 1 Lothian Street\, Dalkeith\, EH22 1DS\, United Kingdom
ATTACH;FMTTYPE=image/jpeg:https://thesocialprogramme.com/wp-content/uploads/2025/09/TSP_25_BOX_KARAOKE-1.jpg
ORGANIZER;CN="Annabel Bartle":MAILTO:annabel@artlinkedinburgh.co.uk
END:VEVENT
BEGIN:VEVENT
DTSTART;TZID=UTC:20261208T190000
DTEND;TZID=UTC:20261208T210000
DTSTAMP:20260423T214630
CREATED:20251211T115102Z
LAST-MODIFIED:20251211T115102Z
UID:2348-1796756400-1796763600@thesocialprogramme.com
SUMMARY:Karaoke Night
DESCRIPTION:
URL:https://thesocialprogramme.com/event/karaoke-night-20/
LOCATION:The Black Bull\,\, 1 Lothian Street\, Dalkeith\, EH22 1DS\, United Kingdom
ATTACH;FMTTYPE=image/jpeg:https://thesocialprogramme.com/wp-content/uploads/2025/09/TSP_25_BOX_KARAOKE-1.jpg
ORGANIZER;CN="Annabel Bartle":MAILTO:annabel@artlinkedinburgh.co.uk
END:VEVENT
END:VCALENDAR