BEGIN:VCALENDAR
VERSION:2.0
PRODID:-//A partnership between Artlink, Cherry Road, Thera, St. Joseph’s, enable, ELCAP and Local Area Coordination. - ECPv6.15.20//NONSGML v1.0//EN
CALSCALE:GREGORIAN
METHOD:PUBLISH
X-ORIGINAL-URL:https://thesocialprogramme.com
X-WR-CALDESC:Events for A partnership between Artlink, Cherry Road, Thera, St. Joseph’s, enable, ELCAP and Local Area Coordination.
REFRESH-INTERVAL;VALUE=DURATION:PT1H
X-Robots-Tag:noindex
X-PUBLISHED-TTL:PT1H
BEGIN:VTIMEZONE
TZID:UTC
BEGIN:STANDARD
TZOFFSETFROM:+0000
TZOFFSETTO:+0000
TZNAME:UTC
DTSTART:20250101T000000
END:STANDARD
END:VTIMEZONE
BEGIN:VEVENT
DTSTART;TZID=UTC:20260507T103000
DTEND;TZID=UTC:20260507T123000
DTSTAMP:20260423T215057
CREATED:20251217T112228Z
LAST-MODIFIED:20251217T112603Z
UID:2461-1778149800-1778157000@thesocialprogramme.com
SUMMARY:Daring Dalkeith Theatre Group
DESCRIPTION:
URL:https://thesocialprogramme.com/event/daring-dalkeith-theatre-group-18/
LOCATION:ONE Dalkeith\,\, 21 Eskdaill Street\, Dalkeith\, EH22 1AG
ATTACH;FMTTYPE=image/jpeg:https://thesocialprogramme.com/wp-content/uploads/2024/11/BOX_DARING_DALKEITH.jpg
ORGANIZER;CN="Annabel Bartle":MAILTO:annabel@artlinkedinburgh.co.uk
END:VEVENT
BEGIN:VEVENT
DTSTART;TZID=UTC:20260507T140000
DTEND;TZID=UTC:20260507T153000
DTSTAMP:20260423T215057
CREATED:20260313T140646Z
LAST-MODIFIED:20260313T140646Z
UID:2658-1778162400-1778167800@thesocialprogramme.com
SUMMARY:Cafe Connect
DESCRIPTION:
URL:https://thesocialprogramme.com/event/cafe-connect-2/
LOCATION:Dalkeith Arts Centre\,\, 2 White Hart Street\, Dalkeith\, EH22 1AE
ATTACH;FMTTYPE=image/jpeg:https://thesocialprogramme.com/wp-content/uploads/2025/04/BOX_CafeConnect.jpg
END:VEVENT
BEGIN:VEVENT
DTSTART;TZID=UTC:20260511T103000
DTEND;TZID=UTC:20260511T123000
DTSTAMP:20260423T215057
CREATED:20260402T133705Z
LAST-MODIFIED:20260402T133705Z
UID:2776-1778495400-1778502600@thesocialprogramme.com
SUMMARY:Theatre Skills - Audio Play!
DESCRIPTION:
URL:https://thesocialprogramme.com/event/theatre-skills-audio-play-4/
LOCATION:ONE Dalkeith\,\, 21 Eskdaill Street\, Dalkeith\, EH22 1AG
ATTACH;FMTTYPE=image/jpeg:https://thesocialprogramme.com/wp-content/uploads/2024/11/BOX_DARING_DALKEITH.jpg
ORGANIZER;CN="Annabel Bartle":MAILTO:annabel@artlinkedinburgh.co.uk
END:VEVENT
BEGIN:VEVENT
DTSTART;TZID=UTC:20260511T133000
DTEND;TZID=UTC:20260511T143000
DTSTAMP:20260423T215057
CREATED:20260313T140932Z
LAST-MODIFIED:20260313T140932Z
UID:2664-1778506200-1778509800@thesocialprogramme.com
SUMMARY:KIC Dance with Cheryl
DESCRIPTION:
URL:https://thesocialprogramme.com/event/kic-dance-with-cheryl-3/
LOCATION:KIC Studios\,\, Ironmills Park\, Dalkeith\, EH22 1JP\, United Kingdom
ATTACH;FMTTYPE=image/jpeg:https://thesocialprogramme.com/wp-content/uploads/2025/02/KIC_BOX.jpg
ORGANIZER;CN="Annabel Bartle":MAILTO:annabel@artlinkedinburgh.co.uk
END:VEVENT
BEGIN:VEVENT
DTSTART;TZID=UTC:20260513T103000
DTEND;TZID=UTC:20260513T113000
DTSTAMP:20260423T215057
CREATED:20260402T132533Z
LAST-MODIFIED:20260402T132533Z
UID:2747-1778668200-1778671800@thesocialprogramme.com
SUMMARY:One Voice Allstars
DESCRIPTION:
URL:https://thesocialprogramme.com/event/one-voice-allstars-4/
LOCATION:ONE Dalkeith\,\, 21 Eskdaill Street\, Dalkeith\, EH22 1AG
ATTACH;FMTTYPE=image/jpeg:https://thesocialprogramme.com/wp-content/uploads/2026/04/BOX_ONEVOICE.jpg
ORGANIZER;CN="Annabel Bartle":MAILTO:annabel@artlinkedinburgh.co.uk
END:VEVENT
BEGIN:VEVENT
DTSTART;TZID=UTC:20260513T103000
DTEND;TZID=UTC:20260513T123000
DTSTAMP:20260423T215057
CREATED:20260326T134937Z
LAST-MODIFIED:20260326T134937Z
UID:2731-1778668200-1778675400@thesocialprogramme.com
SUMMARY:The Makers - Cyanotype 2 Sun Pictures
DESCRIPTION:
URL:https://thesocialprogramme.com/event/the-makers-cyanotype-2-sun-pictures-2/
LOCATION:St Nicholas Bucchleuch Church Hall\,\, 119 High Street\, Dalkeith\, EH22 1AX
ATTACH;FMTTYPE=image/jpeg:https://thesocialprogramme.com/wp-content/uploads/2025/04/BOX_MAKERS.jpg
ORGANIZER;CN="Annabel Bartle":MAILTO:annabel@artlinkedinburgh.co.uk
END:VEVENT
BEGIN:VEVENT
DTSTART;TZID=UTC:20260514T103000
DTEND;TZID=UTC:20260514T123000
DTSTAMP:20260423T215057
CREATED:20251217T112134Z
LAST-MODIFIED:20251217T112641Z
UID:2458-1778754600-1778761800@thesocialprogramme.com
SUMMARY:Daring Dalkeith Theatre Group
DESCRIPTION:
URL:https://thesocialprogramme.com/event/daring-dalkeith-theatre-group-17/
LOCATION:ONE Dalkeith\,\, 21 Eskdaill Street\, Dalkeith\, EH22 1AG
ATTACH;FMTTYPE=image/jpeg:https://thesocialprogramme.com/wp-content/uploads/2024/11/BOX_DARING_DALKEITH.jpg
ORGANIZER;CN="Annabel Bartle":MAILTO:annabel@artlinkedinburgh.co.uk
END:VEVENT
BEGIN:VEVENT
DTSTART;TZID=UTC:20260514T103000
DTEND;TZID=UTC:20260514T123000
DTSTAMP:20260423T215057
CREATED:20251217T112734Z
LAST-MODIFIED:20251217T112734Z
UID:2467-1778754600-1778761800@thesocialprogramme.com
SUMMARY:Daring Dalkeith Theatre Group
DESCRIPTION:
URL:https://thesocialprogramme.com/event/daring-dalkeith-theatre-group-21/
LOCATION:ONE Dalkeith\,\, 21 Eskdaill Street\, Dalkeith\, EH22 1AG
ATTACH;FMTTYPE=image/jpeg:https://thesocialprogramme.com/wp-content/uploads/2024/11/BOX_DARING_DALKEITH.jpg
ORGANIZER;CN="Annabel Bartle":MAILTO:annabel@artlinkedinburgh.co.uk
END:VEVENT
BEGIN:VEVENT
DTSTART;TZID=UTC:20260518T103000
DTEND;TZID=UTC:20260518T123000
DTSTAMP:20260423T215057
CREATED:20260402T133736Z
LAST-MODIFIED:20260402T133736Z
UID:2778-1779100200-1779107400@thesocialprogramme.com
SUMMARY:Theatre Skills - Audio Play!
DESCRIPTION:
URL:https://thesocialprogramme.com/event/theatre-skills-audio-play-5/
LOCATION:ONE Dalkeith\,\, 21 Eskdaill Street\, Dalkeith\, EH22 1AG
ATTACH;FMTTYPE=image/jpeg:https://thesocialprogramme.com/wp-content/uploads/2024/11/BOX_DARING_DALKEITH.jpg
ORGANIZER;CN="Annabel Bartle":MAILTO:annabel@artlinkedinburgh.co.uk
END:VEVENT
BEGIN:VEVENT
DTSTART;TZID=UTC:20260519T140000
DTEND;TZID=UTC:20260519T153000
DTSTAMP:20260423T215057
CREATED:20260423T133407Z
LAST-MODIFIED:20260423T133407Z
UID:2791-1779199200-1779204600@thesocialprogramme.com
SUMMARY:Tuesday Club - Sarah & Arthur
DESCRIPTION:
URL:https://thesocialprogramme.com/event/tuesday-club-sarah-arthur/
LOCATION:St Matthew’s Church Hall\,\, 36 Carnethie Street\, Roswell\, United Kingdom
ATTACH;FMTTYPE=image/jpeg:https://thesocialprogramme.com/wp-content/uploads/2024/12/TUESDAY_CLUB_BOX-scaled.jpg
ORGANIZER;CN="Mandy Burgen":MAILTO:Mandy.Burgen@stjosephsservice.co.uk
END:VEVENT
BEGIN:VEVENT
DTSTART;TZID=UTC:20260519T190000
DTEND;TZID=UTC:20260519T210000
DTSTAMP:20260423T215057
CREATED:20251211T114540Z
LAST-MODIFIED:20251211T114540Z
UID:2336-1779217200-1779224400@thesocialprogramme.com
SUMMARY:Karaoke Night
DESCRIPTION:
URL:https://thesocialprogramme.com/event/karaoke-night-14/
LOCATION:The Black Bull\,\, 1 Lothian Street\, Dalkeith\, EH22 1DS\, United Kingdom
ATTACH;FMTTYPE=image/jpeg:https://thesocialprogramme.com/wp-content/uploads/2025/09/TSP_25_BOX_KARAOKE-1.jpg
ORGANIZER;CN="Annabel Bartle":MAILTO:annabel@artlinkedinburgh.co.uk
END:VEVENT
BEGIN:VEVENT
DTSTART;TZID=UTC:20260520T103000
DTEND;TZID=UTC:20260520T113000
DTSTAMP:20260423T215057
CREATED:20260402T132629Z
LAST-MODIFIED:20260402T132629Z
UID:2749-1779273000-1779276600@thesocialprogramme.com
SUMMARY:One Voice Allstars
DESCRIPTION:
URL:https://thesocialprogramme.com/event/one-voice-allstars-5/
LOCATION:ONE Dalkeith\,\, 21 Eskdaill Street\, Dalkeith\, EH22 1AG
ATTACH;FMTTYPE=image/jpeg:https://thesocialprogramme.com/wp-content/uploads/2026/04/BOX_ONEVOICE.jpg
ORGANIZER;CN="Annabel Bartle":MAILTO:annabel@artlinkedinburgh.co.uk
END:VEVENT
BEGIN:VEVENT
DTSTART;TZID=UTC:20260520T103000
DTEND;TZID=UTC:20260520T123000
DTSTAMP:20260423T215057
CREATED:20260326T135018Z
LAST-MODIFIED:20260326T135018Z
UID:2733-1779273000-1779280200@thesocialprogramme.com
SUMMARY:The Makers - Cyanotype 2 Sun Pictures
DESCRIPTION:
URL:https://thesocialprogramme.com/event/the-makers-cyanotype-2-sun-pictures-3/
LOCATION:St Nicholas Bucchleuch Church Hall\,\, 119 High Street\, Dalkeith\, EH22 1AX
ATTACH;FMTTYPE=image/jpeg:https://thesocialprogramme.com/wp-content/uploads/2025/04/BOX_MAKERS.jpg
ORGANIZER;CN="Annabel Bartle":MAILTO:annabel@artlinkedinburgh.co.uk
END:VEVENT
BEGIN:VEVENT
DTSTART;TZID=UTC:20260520T140000
DTEND;TZID=UTC:20260520T160000
DTSTAMP:20260423T215057
CREATED:20251126T095831Z
LAST-MODIFIED:20251126T095831Z
UID:2260-1779285600-1779292800@thesocialprogramme.com
SUMMARY:Linking Loanhead
DESCRIPTION:
URL:https://thesocialprogramme.com/event/linking-loanhead-10/
LOCATION:Loanhead Library\,\, The Loanhead Centre\, George Avenue\, Loanhead\, EH20 9LA
ATTACH;FMTTYPE=image/jpeg:https://thesocialprogramme.com/wp-content/uploads/2025/11/TSP_BOX_LINKINGLOANHEAD.jpg
ORGANIZER;CN="Annabel Bartle":MAILTO:annabel@artlinkedinburgh.co.uk
END:VEVENT
BEGIN:VEVENT
DTSTART;TZID=UTC:20260521T103000
DTEND;TZID=UTC:20260521T123000
DTSTAMP:20260423T215057
CREATED:20251217T120033Z
LAST-MODIFIED:20251217T120033Z
UID:2469-1779359400-1779366600@thesocialprogramme.com
SUMMARY:Daring Dalkeith Theatre Group
DESCRIPTION:
URL:https://thesocialprogramme.com/event/daring-dalkeith-theatre-group-22/
LOCATION:ONE Dalkeith\,\, 21 Eskdaill Street\, Dalkeith\, EH22 1AG
ATTACH;FMTTYPE=image/jpeg:https://thesocialprogramme.com/wp-content/uploads/2024/11/BOX_DARING_DALKEITH.jpg
ORGANIZER;CN="Annabel Bartle":MAILTO:annabel@artlinkedinburgh.co.uk
END:VEVENT
BEGIN:VEVENT
DTSTART;TZID=UTC:20260525T133000
DTEND;TZID=UTC:20260525T143000
DTSTAMP:20260423T215057
CREATED:20260313T141015Z
LAST-MODIFIED:20260313T141015Z
UID:2666-1779715800-1779719400@thesocialprogramme.com
SUMMARY:KIC Dance with Cheryl
DESCRIPTION:
URL:https://thesocialprogramme.com/event/kic-dance-with-cheryl-4/
LOCATION:KIC Studios\,\, Ironmills Park\, Dalkeith\, EH22 1JP\, United Kingdom
ATTACH;FMTTYPE=image/jpeg:https://thesocialprogramme.com/wp-content/uploads/2025/02/KIC_BOX.jpg
ORGANIZER;CN="Annabel Bartle":MAILTO:annabel@artlinkedinburgh.co.uk
END:VEVENT
BEGIN:VEVENT
DTSTART;TZID=UTC:20260527T103000
DTEND;TZID=UTC:20260527T113000
DTSTAMP:20260423T215057
CREATED:20260402T132705Z
LAST-MODIFIED:20260402T132705Z
UID:2751-1779877800-1779881400@thesocialprogramme.com
SUMMARY:One Voice Allstars
DESCRIPTION:
URL:https://thesocialprogramme.com/event/one-voice-allstars-6/
LOCATION:ONE Dalkeith\,\, 21 Eskdaill Street\, Dalkeith\, EH22 1AG
ATTACH;FMTTYPE=image/jpeg:https://thesocialprogramme.com/wp-content/uploads/2026/04/BOX_ONEVOICE.jpg
ORGANIZER;CN="Annabel Bartle":MAILTO:annabel@artlinkedinburgh.co.uk
END:VEVENT
BEGIN:VEVENT
DTSTART;TZID=UTC:20260527T103000
DTEND;TZID=UTC:20260527T123000
DTSTAMP:20260423T215057
CREATED:20260326T135053Z
LAST-MODIFIED:20260326T135053Z
UID:2735-1779877800-1779885000@thesocialprogramme.com
SUMMARY:The Makers - Cyanotype 2 Sun Pictures
DESCRIPTION:
URL:https://thesocialprogramme.com/event/the-makers-cyanotype-2-sun-pictures-4/
LOCATION:St Nicholas Bucchleuch Church Hall\,\, 119 High Street\, Dalkeith\, EH22 1AX
ATTACH;FMTTYPE=image/jpeg:https://thesocialprogramme.com/wp-content/uploads/2025/04/BOX_MAKERS.jpg
ORGANIZER;CN="Annabel Bartle":MAILTO:annabel@artlinkedinburgh.co.uk
END:VEVENT
BEGIN:VEVENT
DTSTART;TZID=UTC:20260528T103000
DTEND;TZID=UTC:20260528T123000
DTSTAMP:20260423T215057
CREATED:20251217T124022Z
LAST-MODIFIED:20251217T124022Z
UID:2471-1779964200-1779971400@thesocialprogramme.com
SUMMARY:Daring Dalkeith Theatre Group
DESCRIPTION:
URL:https://thesocialprogramme.com/event/daring-dalkeith-theatre-group-23/
LOCATION:ONE Dalkeith\,\, 21 Eskdaill Street\, Dalkeith\, EH22 1AG
ATTACH;FMTTYPE=image/jpeg:https://thesocialprogramme.com/wp-content/uploads/2024/11/BOX_DARING_DALKEITH.jpg
ORGANIZER;CN="Annabel Bartle":MAILTO:annabel@artlinkedinburgh.co.uk
END:VEVENT
BEGIN:VEVENT
DTSTART;TZID=UTC:20260601T133000
DTEND;TZID=UTC:20260601T143000
DTSTAMP:20260423T215057
CREATED:20260313T141113Z
LAST-MODIFIED:20260313T141113Z
UID:2668-1780320600-1780324200@thesocialprogramme.com
SUMMARY:KIC Dance with Cheryl
DESCRIPTION:
URL:https://thesocialprogramme.com/event/kic-dance-with-cheryl-5/
LOCATION:KIC Studios\,\, Ironmills Park\, Dalkeith\, EH22 1JP\, United Kingdom
ATTACH;FMTTYPE=image/jpeg:https://thesocialprogramme.com/wp-content/uploads/2025/02/KIC_BOX.jpg
ORGANIZER;CN="Annabel Bartle":MAILTO:annabel@artlinkedinburgh.co.uk
END:VEVENT
BEGIN:VEVENT
DTSTART;TZID=UTC:20260602T140000
DTEND;TZID=UTC:20260602T153000
DTSTAMP:20260423T215057
CREATED:20260423T133452Z
LAST-MODIFIED:20260423T133452Z
UID:2793-1780408800-1780414200@thesocialprogramme.com
SUMMARY:Tuesday Club - Sarah McFadyen
DESCRIPTION:
URL:https://thesocialprogramme.com/event/tuesday-club-sarah-mcfadyen/
LOCATION:St Matthew’s Church Hall\,\, 36 Carnethie Street\, Roswell\, United Kingdom
ATTACH;FMTTYPE=image/jpeg:https://thesocialprogramme.com/wp-content/uploads/2024/12/TUESDAY_CLUB_BOX-scaled.jpg
ORGANIZER;CN="Mandy Burgen":MAILTO:Mandy.Burgen@stjosephsservice.co.uk
END:VEVENT
BEGIN:VEVENT
DTSTART;TZID=UTC:20260603T103000
DTEND;TZID=UTC:20260603T113000
DTSTAMP:20260423T215057
CREATED:20260402T132757Z
LAST-MODIFIED:20260402T132757Z
UID:2753-1780482600-1780486200@thesocialprogramme.com
SUMMARY:One Voice Allstars
DESCRIPTION:
URL:https://thesocialprogramme.com/event/one-voice-allstars-7/
LOCATION:ONE Dalkeith\,\, 21 Eskdaill Street\, Dalkeith\, EH22 1AG
ATTACH;FMTTYPE=image/jpeg:https://thesocialprogramme.com/wp-content/uploads/2026/04/BOX_ONEVOICE.jpg
ORGANIZER;CN="Annabel Bartle":MAILTO:annabel@artlinkedinburgh.co.uk
END:VEVENT
BEGIN:VEVENT
DTSTART;TZID=UTC:20260603T103000
DTEND;TZID=UTC:20260603T123000
DTSTAMP:20260423T215057
CREATED:20260326T135129Z
LAST-MODIFIED:20260326T135129Z
UID:2737-1780482600-1780489800@thesocialprogramme.com
SUMMARY:The Makers - Cyanotype 2 Sun Pictures
DESCRIPTION:
URL:https://thesocialprogramme.com/event/the-makers-cyanotype-2-sun-pictures-5/
LOCATION:St Nicholas Bucchleuch Church Hall\,\, 119 High Street\, Dalkeith\, EH22 1AX
ATTACH;FMTTYPE=image/jpeg:https://thesocialprogramme.com/wp-content/uploads/2025/04/BOX_MAKERS.jpg
ORGANIZER;CN="Annabel Bartle":MAILTO:annabel@artlinkedinburgh.co.uk
END:VEVENT
BEGIN:VEVENT
DTSTART;TZID=UTC:20260603T140000
DTEND;TZID=UTC:20260603T160000
DTSTAMP:20260423T215057
CREATED:20251126T095916Z
LAST-MODIFIED:20251126T095916Z
UID:2262-1780495200-1780502400@thesocialprogramme.com
SUMMARY:Linking Loanhead
DESCRIPTION:
URL:https://thesocialprogramme.com/event/linking-loanhead-11/
LOCATION:Loanhead Library\,\, The Loanhead Centre\, George Avenue\, Loanhead\, EH20 9LA
ATTACH;FMTTYPE=image/jpeg:https://thesocialprogramme.com/wp-content/uploads/2025/11/TSP_BOX_LINKINGLOANHEAD.jpg
ORGANIZER;CN="Annabel Bartle":MAILTO:annabel@artlinkedinburgh.co.uk
END:VEVENT
BEGIN:VEVENT
DTSTART;TZID=UTC:20260604T103000
DTEND;TZID=UTC:20260604T123000
DTSTAMP:20260423T215057
CREATED:20251217T124130Z
LAST-MODIFIED:20251217T124130Z
UID:2473-1780569000-1780576200@thesocialprogramme.com
SUMMARY:Daring Dalkeith Theatre Group
DESCRIPTION:
URL:https://thesocialprogramme.com/event/daring-dalkeith-theatre-group-24/
LOCATION:ONE Dalkeith\,\, 21 Eskdaill Street\, Dalkeith\, EH22 1AG
ATTACH;FMTTYPE=image/jpeg:https://thesocialprogramme.com/wp-content/uploads/2024/11/BOX_DARING_DALKEITH.jpg
ORGANIZER;CN="Annabel Bartle":MAILTO:annabel@artlinkedinburgh.co.uk
END:VEVENT
BEGIN:VEVENT
DTSTART;TZID=UTC:20260605T190000
DTEND;TZID=UTC:20260605T223000
DTSTAMP:20260423T215057
CREATED:20260206T143424Z
LAST-MODIFIED:20260206T143424Z
UID:2598-1780686000-1780698600@thesocialprogramme.com
SUMMARY:Connecting Midlothian Disco
DESCRIPTION:
URL:https://thesocialprogramme.com/event/connecting-midlothian-disco-5/
LOCATION:Mayfield Community Club\,\, 5 Stone Place\, Dalkeith\, EH22 5PF
ATTACH;FMTTYPE=image/jpeg:https://thesocialprogramme.com/wp-content/uploads/2024/02/DISCO_BOX.jpg
END:VEVENT
BEGIN:VEVENT
DTSTART;TZID=UTC:20260608T133000
DTEND;TZID=UTC:20260608T143000
DTSTAMP:20260423T215057
CREATED:20260313T141152Z
LAST-MODIFIED:20260313T141152Z
UID:2670-1780925400-1780929000@thesocialprogramme.com
SUMMARY:KIC Dance with Cheryl
DESCRIPTION:
URL:https://thesocialprogramme.com/event/kic-dance-with-cheryl-6/
LOCATION:KIC Studios\,\, Ironmills Park\, Dalkeith\, EH22 1JP\, United Kingdom
ATTACH;FMTTYPE=image/jpeg:https://thesocialprogramme.com/wp-content/uploads/2025/02/KIC_BOX.jpg
ORGANIZER;CN="Annabel Bartle":MAILTO:annabel@artlinkedinburgh.co.uk
END:VEVENT
BEGIN:VEVENT
DTSTART;TZID=UTC:20260610T103000
DTEND;TZID=UTC:20260610T113000
DTSTAMP:20260423T215057
CREATED:20260402T132829Z
LAST-MODIFIED:20260402T132829Z
UID:2756-1781087400-1781091000@thesocialprogramme.com
SUMMARY:One Voice Allstars
DESCRIPTION:
URL:https://thesocialprogramme.com/event/one-voice-allstars-8/
LOCATION:ONE Dalkeith\,\, 21 Eskdaill Street\, Dalkeith\, EH22 1AG
ATTACH;FMTTYPE=image/jpeg:https://thesocialprogramme.com/wp-content/uploads/2026/04/BOX_ONEVOICE.jpg
ORGANIZER;CN="Annabel Bartle":MAILTO:annabel@artlinkedinburgh.co.uk
END:VEVENT
BEGIN:VEVENT
DTSTART;TZID=UTC:20260611T103000
DTEND;TZID=UTC:20260611T123000
DTSTAMP:20260423T215057
CREATED:20251217T124223Z
LAST-MODIFIED:20251217T124223Z
UID:2475-1781173800-1781181000@thesocialprogramme.com
SUMMARY:Daring Dalkeith Theatre Group
DESCRIPTION:
URL:https://thesocialprogramme.com/event/daring-dalkeith-theatre-group-25/
LOCATION:ONE Dalkeith\,\, 21 Eskdaill Street\, Dalkeith\, EH22 1AG
ATTACH;FMTTYPE=image/jpeg:https://thesocialprogramme.com/wp-content/uploads/2024/11/BOX_DARING_DALKEITH.jpg
ORGANIZER;CN="Annabel Bartle":MAILTO:annabel@artlinkedinburgh.co.uk
END:VEVENT
BEGIN:VEVENT
DTSTART;TZID=UTC:20260615T133000
DTEND;TZID=UTC:20260615T143000
DTSTAMP:20260423T215057
CREATED:20260313T141238Z
LAST-MODIFIED:20260313T141238Z
UID:2672-1781530200-1781533800@thesocialprogramme.com
SUMMARY:KIC Dance with Cheryl
DESCRIPTION:
URL:https://thesocialprogramme.com/event/kic-dance-with-cheryl-7/
LOCATION:KIC Studios\,\, Ironmills Park\, Dalkeith\, EH22 1JP\, United Kingdom
ATTACH;FMTTYPE=image/jpeg:https://thesocialprogramme.com/wp-content/uploads/2025/02/KIC_BOX.jpg
ORGANIZER;CN="Annabel Bartle":MAILTO:annabel@artlinkedinburgh.co.uk
END:VEVENT
END:VCALENDAR