BEGIN:VCALENDAR
VERSION:2.0
PRODID:-//A partnership between Artlink, Cherry Road, Thera, St. Joseph’s, enable, ELCAP and Local Area Coordination. - ECPv6.15.20//NONSGML v1.0//EN
CALSCALE:GREGORIAN
METHOD:PUBLISH
X-WR-CALNAME:A partnership between Artlink, Cherry Road, Thera, St. Joseph’s, enable, ELCAP and Local Area Coordination.
X-ORIGINAL-URL:https://thesocialprogramme.com
X-WR-CALDESC:Events for A partnership between Artlink, Cherry Road, Thera, St. Joseph’s, enable, ELCAP and Local Area Coordination.
REFRESH-INTERVAL;VALUE=DURATION:PT1H
X-Robots-Tag:noindex
X-PUBLISHED-TTL:PT1H
BEGIN:VTIMEZONE
TZID:UTC
BEGIN:STANDARD
TZOFFSETFROM:+0000
TZOFFSETTO:+0000
TZNAME:UTC
DTSTART:20250101T000000
END:STANDARD
END:VTIMEZONE
BEGIN:VEVENT
DTSTART;TZID=UTC:20260421T140000
DTEND;TZID=UTC:20260421T160000
DTSTAMP:20260423T203033
CREATED:20260212T124631Z
LAST-MODIFIED:20260212T124631Z
UID:2626-1776780000-1776787200@thesocialprogramme.com
SUMMARY:The Tuesday Club - KIC Dance with Cheryl
DESCRIPTION:
URL:https://thesocialprogramme.com/event/the-tuesday-club-kic-dance-with-cheryl/
LOCATION:The Steading\,\, Carnethie Street\, Rosewell\, EH24 9AA
ATTACH;FMTTYPE=image/jpeg:https://thesocialprogramme.com/wp-content/uploads/2024/12/TUESDAY_CLUB_BOX-scaled.jpg
ORGANIZER;CN="Mandy Burgen":MAILTO:Mandy.Burgen@stjosephsservice.co.uk
END:VEVENT
BEGIN:VEVENT
DTSTART;TZID=UTC:20260420T103000
DTEND;TZID=UTC:20260420T123000
DTSTAMP:20260423T203033
CREATED:20260402T133518Z
LAST-MODIFIED:20260402T133518Z
UID:2770-1776681000-1776688200@thesocialprogramme.com
SUMMARY:Theatre Skills - Audio Play!
DESCRIPTION:
URL:https://thesocialprogramme.com/event/theatre-skills-audio-play/
LOCATION:ONE Dalkeith\,\, 21 Eskdaill Street\, Dalkeith\, EH22 1AG
ATTACH;FMTTYPE=image/jpeg:https://thesocialprogramme.com/wp-content/uploads/2024/11/BOX_DARING_DALKEITH.jpg
ORGANIZER;CN="Annabel Bartle":MAILTO:annabel@artlinkedinburgh.co.uk
END:VEVENT
BEGIN:VEVENT
DTSTART;TZID=UTC:20260416T150000
DTEND;TZID=UTC:20260416T154000
DTSTAMP:20260423T203033
CREATED:20260326T103044Z
LAST-MODIFIED:20260326T103231Z
UID:2718-1776351600-1776354000@thesocialprogramme.com
SUMMARY:Thursday Live - Kampala Masala
DESCRIPTION:Redwoods.
URL:https://thesocialprogramme.com/event/thursday-live-kampala-masala/
ATTACH;FMTTYPE=image/jpeg:https://thesocialprogramme.com/wp-content/uploads/2025/01/TSP_TL_BOX.jpg
ORGANIZER;CN="Annabel Bartle":MAILTO:annabel@artlinkedinburgh.co.uk
END:VEVENT
BEGIN:VEVENT
DTSTART;TZID=UTC:20260415T100000
DTEND;TZID=UTC:20260415T120000
DTSTAMP:20260423T203033
CREATED:20260313T141717Z
LAST-MODIFIED:20260313T141717Z
UID:2682-1776247200-1776254400@thesocialprogramme.com
SUMMARY:The Makers - Animation with Emma Bowen
DESCRIPTION:
URL:https://thesocialprogramme.com/event/the-makers-animation-with-emma-bowen-3/
LOCATION:McSence\,\, McSence Business Park\, Sycamore Road\, Dalkeith\, EH22 5TA\, United Kingdom
ATTACH;FMTTYPE=image/jpeg:https://thesocialprogramme.com/wp-content/uploads/2025/04/BOX_MAKERS.jpg
ORGANIZER;CN="Annabel Bartle":MAILTO:annabel@artlinkedinburgh.co.uk
END:VEVENT
BEGIN:VEVENT
DTSTART;TZID=UTC:20260413T133000
DTEND;TZID=UTC:20260413T143000
DTSTAMP:20260423T203033
CREATED:20260313T140807Z
LAST-MODIFIED:20260313T140807Z
UID:2660-1776087000-1776090600@thesocialprogramme.com
SUMMARY:KIC Dance with Cheryl
DESCRIPTION:
URL:https://thesocialprogramme.com/event/kic-dance-with-cheryl/
LOCATION:KIC Studios\,\, Ironmills Park\, Dalkeith\, EH22 1JP\, United Kingdom
ATTACH;FMTTYPE=image/jpeg:https://thesocialprogramme.com/wp-content/uploads/2025/02/KIC_BOX.jpg
ORGANIZER;CN="Annabel Bartle":MAILTO:annabel@artlinkedinburgh.co.uk
END:VEVENT
BEGIN:VEVENT
DTSTART;TZID=UTC:20260409T150000
DTEND;TZID=UTC:20260409T154000
DTSTAMP:20260423T203033
CREATED:20260326T102922Z
LAST-MODIFIED:20260326T102922Z
UID:2716-1775746800-1775749200@thesocialprogramme.com
SUMMARY:Thursday Live - Think Circus
DESCRIPTION:
URL:https://thesocialprogramme.com/event/thursday-live-think-circus/
LOCATION:The Steading\,\, Carnethie Street\, Rosewell\, EH24 9AA
ATTACH;FMTTYPE=image/jpeg:https://thesocialprogramme.com/wp-content/uploads/2025/01/TSP_TL_BOX.jpg
ORGANIZER;CN="Annabel Bartle":MAILTO:annabel@artlinkedinburgh.co.uk
END:VEVENT
BEGIN:VEVENT
DTSTART;TZID=UTC:20260408T140000
DTEND;TZID=UTC:20260408T160000
DTSTAMP:20260423T203033
CREATED:20251126T095639Z
LAST-MODIFIED:20251126T095639Z
UID:2254-1775656800-1775664000@thesocialprogramme.com
SUMMARY:Linking Loanhead
DESCRIPTION:
URL:https://thesocialprogramme.com/event/linking-loanhead-7/
LOCATION:Loanhead Library\,\, The Loanhead Centre\, George Avenue\, Loanhead\, EH20 9LA
ATTACH;FMTTYPE=image/jpeg:https://thesocialprogramme.com/wp-content/uploads/2025/11/TSP_BOX_LINKINGLOANHEAD.jpg
ORGANIZER;CN="Annabel Bartle":MAILTO:annabel@artlinkedinburgh.co.uk
END:VEVENT
BEGIN:VEVENT
DTSTART;TZID=UTC:20260408T100000
DTEND;TZID=UTC:20260408T120000
DTSTAMP:20260423T203033
CREATED:20260313T141623Z
LAST-MODIFIED:20260313T141623Z
UID:2680-1775642400-1775649600@thesocialprogramme.com
SUMMARY:The Makers - Animation with Emma Bowen
DESCRIPTION:
URL:https://thesocialprogramme.com/event/the-makers-animation-with-emma-bowen-2/
LOCATION:McSence\,\, McSence Business Park\, Sycamore Road\, Dalkeith\, EH22 5TA\, United Kingdom
ATTACH;FMTTYPE=image/jpeg:https://thesocialprogramme.com/wp-content/uploads/2025/04/BOX_MAKERS.jpg
ORGANIZER;CN="Annabel Bartle":MAILTO:annabel@artlinkedinburgh.co.uk
END:VEVENT
BEGIN:VEVENT
DTSTART;TZID=UTC:20260407T140000
DTEND;TZID=UTC:20260407T160000
DTSTAMP:20260423T203033
CREATED:20260212T124548Z
LAST-MODIFIED:20260212T124548Z
UID:2624-1775570400-1775577600@thesocialprogramme.com
SUMMARY:The Tuesday Club - Mini Olympics with Lynne & Donald
DESCRIPTION:
URL:https://thesocialprogramme.com/event/the-tuesday-club-mini-olympics-with-lynne-donald/
LOCATION:The Steading\,\, Carnethie Street\, Rosewell\, EH24 9AA
ATTACH;FMTTYPE=image/jpeg:https://thesocialprogramme.com/wp-content/uploads/2024/12/TUESDAY_CLUB_BOX-scaled.jpg
ORGANIZER;CN="Mandy Burgen":MAILTO:Mandy.Burgen@stjosephsservice.co.uk
END:VEVENT
BEGIN:VEVENT
DTSTART;TZID=UTC:20260403T190000
DTEND;TZID=UTC:20260403T223000
DTSTAMP:20260423T203033
CREATED:20260206T143047Z
LAST-MODIFIED:20260206T143730Z
UID:2594-1775242800-1775255400@thesocialprogramme.com
SUMMARY:Connecting Midlothian Disco
DESCRIPTION:
URL:https://thesocialprogramme.com/event/connecting-midlothian-disco-3/
LOCATION:Mayfield Community Club\,\, 5 Stone Place\, Dalkeith\, EH22 5PF
ATTACH;FMTTYPE=image/jpeg:https://thesocialprogramme.com/wp-content/uploads/2024/02/DISCO_BOX.jpg
END:VEVENT
BEGIN:VEVENT
DTSTART;TZID=UTC:20260402T140000
DTEND;TZID=UTC:20260402T153000
DTSTAMP:20260423T203033
CREATED:20260313T140558Z
LAST-MODIFIED:20260313T140558Z
UID:2656-1775138400-1775143800@thesocialprogramme.com
SUMMARY:Cafe Connect
DESCRIPTION:
URL:https://thesocialprogramme.com/event/cafe-connect/
LOCATION:Dalkeith Arts Centre\,\, 2 White Hart Street\, Dalkeith\, EH22 1AE
ATTACH;FMTTYPE=image/jpeg:https://thesocialprogramme.com/wp-content/uploads/2025/04/BOX_CafeConnect.jpg
END:VEVENT
BEGIN:VEVENT
DTSTART;TZID=UTC:20260401T100000
DTEND;TZID=UTC:20260401T120000
DTSTAMP:20260423T203033
CREATED:20260313T141542Z
LAST-MODIFIED:20260313T141542Z
UID:2678-1775037600-1775044800@thesocialprogramme.com
SUMMARY:The Makers - Animation with Emma Bowen
DESCRIPTION:
URL:https://thesocialprogramme.com/event/the-makers-animation-with-emma-bowen/
LOCATION:McSence\,\, McSence Business Park\, Sycamore Road\, Dalkeith\, EH22 5TA\, United Kingdom
ATTACH;FMTTYPE=image/jpeg:https://thesocialprogramme.com/wp-content/uploads/2025/04/BOX_MAKERS.jpg
ORGANIZER;CN="Annabel Bartle":MAILTO:annabel@artlinkedinburgh.co.uk
END:VEVENT
BEGIN:VEVENT
DTSTART;TZID=UTC:20260331T103000
DTEND;TZID=UTC:20260331T123000
DTSTAMP:20260423T203033
CREATED:20260204T163546Z
LAST-MODIFIED:20260204T163546Z
UID:2579-1774953000-1774960200@thesocialprogramme.com
SUMMARY:The Makers - Patchwork Cushions with Emily Millichip
DESCRIPTION:
URL:https://thesocialprogramme.com/event/the-makers-patchwork-cushions-with-emily-millichip-5/
LOCATION:Gorebridge Library\,\, 98 Hunterfield Road\, Gorebridge\, EH23 4TA\, United Kingdom
ATTACH;FMTTYPE=image/jpeg:https://thesocialprogramme.com/wp-content/uploads/2025/04/BOX_MAKERS.jpg
ORGANIZER;CN="Annabel Bartle":MAILTO:annabel@artlinkedinburgh.co.uk
END:VEVENT
BEGIN:VEVENT
DTSTART;TZID=UTC:20260330T133000
DTEND;TZID=UTC:20260330T143000
DTSTAMP:20260423T203033
CREATED:20251211T123042Z
LAST-MODIFIED:20251211T123042Z
UID:2373-1774877400-1774881000@thesocialprogramme.com
SUMMARY:KIC Dance with Cheryl
DESCRIPTION:
URL:https://thesocialprogramme.com/event/kic-dance-with-cheryl-26/
LOCATION:KIC Studios\,\, Ironmills Park\, Dalkeith\, EH22 1JP\, United Kingdom
ATTACH;FMTTYPE=image/jpeg:https://thesocialprogramme.com/wp-content/uploads/2025/02/KIC_BOX.jpg
ORGANIZER;CN="Annabel Bartle":MAILTO:annabel@artlinkedinburgh.co.uk
END:VEVENT
BEGIN:VEVENT
DTSTART;TZID=UTC:20260326T150000
DTEND;TZID=UTC:20260326T154000
DTSTAMP:20260423T203033
CREATED:20260212T135019Z
LAST-MODIFIED:20260212T135019Z
UID:2635-1774537200-1774539600@thesocialprogramme.com
SUMMARY:Thursday Live - KIC Dance
DESCRIPTION:
URL:https://thesocialprogramme.com/event/thursday-live-kic-dance/
LOCATION:Penicuik Town Hall\,\, 33 High Street\, Penicuik\, EH26 8HS
ATTACH;FMTTYPE=image/jpeg:https://thesocialprogramme.com/wp-content/uploads/2025/01/TSP_TL_BOX.jpg
END:VEVENT
BEGIN:VEVENT
DTSTART;TZID=UTC:20260325T140000
DTEND;TZID=UTC:20260325T160000
DTSTAMP:20260423T203033
CREATED:20251126T095528Z
LAST-MODIFIED:20251126T095528Z
UID:2252-1774447200-1774454400@thesocialprogramme.com
SUMMARY:Linking Loanhead
DESCRIPTION:
URL:https://thesocialprogramme.com/event/linking-loanhead-6/
LOCATION:Loanhead Library\,\, The Loanhead Centre\, George Avenue\, Loanhead\, EH20 9LA
ATTACH;FMTTYPE=image/jpeg:https://thesocialprogramme.com/wp-content/uploads/2025/11/TSP_BOX_LINKINGLOANHEAD.jpg
ORGANIZER;CN="Annabel Bartle":MAILTO:annabel@artlinkedinburgh.co.uk
END:VEVENT
BEGIN:VEVENT
DTSTART;TZID=UTC:20260324T140000
DTEND;TZID=UTC:20260324T160000
DTSTAMP:20260423T203033
CREATED:20260212T124448Z
LAST-MODIFIED:20260212T124448Z
UID:2622-1774360800-1774368000@thesocialprogramme.com
SUMMARY:The Tuesday Club - Elvis!
DESCRIPTION:
URL:https://thesocialprogramme.com/event/the-tuesday-club-elvis/
LOCATION:The Steading\,\, Carnethie Street\, Rosewell\, EH24 9AA
ATTACH;FMTTYPE=image/jpeg:https://thesocialprogramme.com/wp-content/uploads/2024/12/TUESDAY_CLUB_BOX-scaled.jpg
ORGANIZER;CN="Mandy Burgen":MAILTO:Mandy.Burgen@stjosephsservice.co.uk
END:VEVENT
BEGIN:VEVENT
DTSTART;TZID=UTC:20260324T103000
DTEND;TZID=UTC:20260324T123000
DTSTAMP:20260423T203033
CREATED:20260204T163512Z
LAST-MODIFIED:20260204T163512Z
UID:2577-1774348200-1774355400@thesocialprogramme.com
SUMMARY:The Makers - Patchwork Cushions with Emily Millichip
DESCRIPTION:
URL:https://thesocialprogramme.com/event/the-makers-patchwork-cushions-with-emily-millichip-4/
LOCATION:Gorebridge Library\,\, 98 Hunterfield Road\, Gorebridge\, EH23 4TA\, United Kingdom
ATTACH;FMTTYPE=image/jpeg:https://thesocialprogramme.com/wp-content/uploads/2025/04/BOX_MAKERS.jpg
ORGANIZER;CN="Annabel Bartle":MAILTO:annabel@artlinkedinburgh.co.uk
END:VEVENT
BEGIN:VEVENT
DTSTART;TZID=UTC:20260323T133000
DTEND;TZID=UTC:20260323T143000
DTSTAMP:20260423T203033
CREATED:20251211T122947Z
LAST-MODIFIED:20251211T122947Z
UID:2371-1774272600-1774276200@thesocialprogramme.com
SUMMARY:KIC Dance with Cheryl
DESCRIPTION:
URL:https://thesocialprogramme.com/event/kic-dance-with-cheryl-25/
LOCATION:KIC Studios\,\, Ironmills Park\, Dalkeith\, EH22 1JP\, United Kingdom
ATTACH;FMTTYPE=image/jpeg:https://thesocialprogramme.com/wp-content/uploads/2025/02/KIC_BOX.jpg
ORGANIZER;CN="Annabel Bartle":MAILTO:annabel@artlinkedinburgh.co.uk
END:VEVENT
END:VCALENDAR