BEGIN:VCALENDAR
VERSION:2.0
PRODID:-//A partnership between Artlink, Cherry Road, Thera, St. Joseph’s, enable, ELCAP and Local Area Coordination. - ECPv6.15.20//NONSGML v1.0//EN
CALSCALE:GREGORIAN
METHOD:PUBLISH
X-WR-CALNAME:A partnership between Artlink, Cherry Road, Thera, St. Joseph’s, enable, ELCAP and Local Area Coordination.
X-ORIGINAL-URL:https://thesocialprogramme.com
X-WR-CALDESC:Events for A partnership between Artlink, Cherry Road, Thera, St. Joseph’s, enable, ELCAP and Local Area Coordination.
REFRESH-INTERVAL;VALUE=DURATION:PT1H
X-Robots-Tag:noindex
X-PUBLISHED-TTL:PT1H
BEGIN:VTIMEZONE
TZID:UTC
BEGIN:STANDARD
TZOFFSETFROM:+0000
TZOFFSETTO:+0000
TZNAME:UTC
DTSTART:20250101T000000
END:STANDARD
END:VTIMEZONE
BEGIN:VEVENT
DTSTART;TZID=UTC:20260520T103000
DTEND;TZID=UTC:20260520T113000
DTSTAMP:20260423T202108
CREATED:20260402T132629Z
LAST-MODIFIED:20260402T132629Z
UID:2749-1779273000-1779276600@thesocialprogramme.com
SUMMARY:One Voice Allstars
DESCRIPTION:
URL:https://thesocialprogramme.com/event/one-voice-allstars-5/
LOCATION:ONE Dalkeith\,\, 21 Eskdaill Street\, Dalkeith\, EH22 1AG
ATTACH;FMTTYPE=image/jpeg:https://thesocialprogramme.com/wp-content/uploads/2026/04/BOX_ONEVOICE.jpg
ORGANIZER;CN="Annabel Bartle":MAILTO:annabel@artlinkedinburgh.co.uk
END:VEVENT
BEGIN:VEVENT
DTSTART;TZID=UTC:20260520T103000
DTEND;TZID=UTC:20260520T123000
DTSTAMP:20260423T202108
CREATED:20260326T135018Z
LAST-MODIFIED:20260326T135018Z
UID:2733-1779273000-1779280200@thesocialprogramme.com
SUMMARY:The Makers - Cyanotype 2 Sun Pictures
DESCRIPTION:
URL:https://thesocialprogramme.com/event/the-makers-cyanotype-2-sun-pictures-3/
LOCATION:St Nicholas Bucchleuch Church Hall\,\, 119 High Street\, Dalkeith\, EH22 1AX
ATTACH;FMTTYPE=image/jpeg:https://thesocialprogramme.com/wp-content/uploads/2025/04/BOX_MAKERS.jpg
ORGANIZER;CN="Annabel Bartle":MAILTO:annabel@artlinkedinburgh.co.uk
END:VEVENT
BEGIN:VEVENT
DTSTART;TZID=UTC:20260520T140000
DTEND;TZID=UTC:20260520T160000
DTSTAMP:20260423T202108
CREATED:20251126T095831Z
LAST-MODIFIED:20251126T095831Z
UID:2260-1779285600-1779292800@thesocialprogramme.com
SUMMARY:Linking Loanhead
DESCRIPTION:
URL:https://thesocialprogramme.com/event/linking-loanhead-10/
LOCATION:Loanhead Library\,\, The Loanhead Centre\, George Avenue\, Loanhead\, EH20 9LA
ATTACH;FMTTYPE=image/jpeg:https://thesocialprogramme.com/wp-content/uploads/2025/11/TSP_BOX_LINKINGLOANHEAD.jpg
ORGANIZER;CN="Annabel Bartle":MAILTO:annabel@artlinkedinburgh.co.uk
END:VEVENT
END:VCALENDAR