BEGIN:VCALENDAR
VERSION:2.0
PRODID:-//A partnership between Artlink, Cherry Road, Thera, St. Joseph’s, enable, ELCAP and Local Area Coordination. - ECPv6.15.20//NONSGML v1.0//EN
CALSCALE:GREGORIAN
METHOD:PUBLISH
X-ORIGINAL-URL:https://thesocialprogramme.com
X-WR-CALDESC:Events for A partnership between Artlink, Cherry Road, Thera, St. Joseph’s, enable, ELCAP and Local Area Coordination.
REFRESH-INTERVAL;VALUE=DURATION:PT1H
X-Robots-Tag:noindex
X-PUBLISHED-TTL:PT1H
BEGIN:VTIMEZONE
TZID:UTC
BEGIN:STANDARD
TZOFFSETFROM:+0000
TZOFFSETTO:+0000
TZNAME:UTC
DTSTART:20250101T000000
END:STANDARD
END:VTIMEZONE
BEGIN:VEVENT
DTSTART;TZID=UTC:20260507T103000
DTEND;TZID=UTC:20260507T123000
DTSTAMP:20260423T185849
CREATED:20251217T112228Z
LAST-MODIFIED:20251217T112603Z
UID:2461-1778149800-1778157000@thesocialprogramme.com
SUMMARY:Daring Dalkeith Theatre Group
DESCRIPTION:
URL:https://thesocialprogramme.com/event/daring-dalkeith-theatre-group-18/
LOCATION:ONE Dalkeith\,\, 21 Eskdaill Street\, Dalkeith\, EH22 1AG
ATTACH;FMTTYPE=image/jpeg:https://thesocialprogramme.com/wp-content/uploads/2024/11/BOX_DARING_DALKEITH.jpg
ORGANIZER;CN="Annabel Bartle":MAILTO:annabel@artlinkedinburgh.co.uk
END:VEVENT
BEGIN:VEVENT
DTSTART;TZID=UTC:20260507T140000
DTEND;TZID=UTC:20260507T153000
DTSTAMP:20260423T185849
CREATED:20260313T140646Z
LAST-MODIFIED:20260313T140646Z
UID:2658-1778162400-1778167800@thesocialprogramme.com
SUMMARY:Cafe Connect
DESCRIPTION:
URL:https://thesocialprogramme.com/event/cafe-connect-2/
LOCATION:Dalkeith Arts Centre\,\, 2 White Hart Street\, Dalkeith\, EH22 1AE
ATTACH;FMTTYPE=image/jpeg:https://thesocialprogramme.com/wp-content/uploads/2025/04/BOX_CafeConnect.jpg
END:VEVENT
END:VCALENDAR