BEGIN:VCALENDAR
VERSION:2.0
PRODID:-//A partnership between Artlink, Cherry Road, Thera, St. Joseph’s, enable, ELCAP and Local Area Coordination. - ECPv6.15.20//NONSGML v1.0//EN
CALSCALE:GREGORIAN
METHOD:PUBLISH
X-ORIGINAL-URL:https://thesocialprogramme.com
X-WR-CALDESC:Events for A partnership between Artlink, Cherry Road, Thera, St. Joseph’s, enable, ELCAP and Local Area Coordination.
REFRESH-INTERVAL;VALUE=DURATION:PT1H
X-Robots-Tag:noindex
X-PUBLISHED-TTL:PT1H
BEGIN:VTIMEZONE
TZID:UTC
BEGIN:STANDARD
TZOFFSETFROM:+0000
TZOFFSETTO:+0000
TZNAME:UTC
DTSTART:20250101T000000
END:STANDARD
END:VTIMEZONE
BEGIN:VEVENT
DTSTART;TZID=UTC:20260506T103000
DTEND;TZID=UTC:20260506T113000
DTSTAMP:20260423T185821
CREATED:20260402T132453Z
LAST-MODIFIED:20260402T132453Z
UID:2745-1778063400-1778067000@thesocialprogramme.com
SUMMARY:One Voice Allstars
DESCRIPTION:
URL:https://thesocialprogramme.com/event/one-voice-allstars-3/
LOCATION:ONE Dalkeith\,\, 21 Eskdaill Street\, Dalkeith\, EH22 1AG
ATTACH;FMTTYPE=image/jpeg:https://thesocialprogramme.com/wp-content/uploads/2026/04/BOX_ONEVOICE.jpg
ORGANIZER;CN="Annabel Bartle":MAILTO:annabel@artlinkedinburgh.co.uk
END:VEVENT
BEGIN:VEVENT
DTSTART;TZID=UTC:20260506T103000
DTEND;TZID=UTC:20260506T123000
DTSTAMP:20260423T185821
CREATED:20260326T134854Z
LAST-MODIFIED:20260326T134854Z
UID:2729-1778063400-1778070600@thesocialprogramme.com
SUMMARY:The Makers - Cyanotype 2 Sun Pictures
DESCRIPTION:
URL:https://thesocialprogramme.com/event/the-makers-cyanotype-2-sun-pictures/
LOCATION:St Nicholas Bucchleuch Church Hall\,\, 119 High Street\, Dalkeith\, EH22 1AX
ATTACH;FMTTYPE=image/jpeg:https://thesocialprogramme.com/wp-content/uploads/2025/04/BOX_MAKERS.jpg
ORGANIZER;CN="Annabel Bartle":MAILTO:annabel@artlinkedinburgh.co.uk
END:VEVENT
BEGIN:VEVENT
DTSTART;TZID=UTC:20260506T140000
DTEND;TZID=UTC:20260506T160000
DTSTAMP:20260423T185821
CREATED:20251126T095754Z
LAST-MODIFIED:20251126T095754Z
UID:2258-1778076000-1778083200@thesocialprogramme.com
SUMMARY:Linking Loanhead
DESCRIPTION:
URL:https://thesocialprogramme.com/event/linking-loanhead-9/
LOCATION:Loanhead Library\,\, The Loanhead Centre\, George Avenue\, Loanhead\, EH20 9LA
ATTACH;FMTTYPE=image/jpeg:https://thesocialprogramme.com/wp-content/uploads/2025/11/TSP_BOX_LINKINGLOANHEAD.jpg
ORGANIZER;CN="Annabel Bartle":MAILTO:annabel@artlinkedinburgh.co.uk
END:VEVENT
END:VCALENDAR