BEGIN:VCALENDAR
VERSION:2.0
PRODID:-//A partnership between Artlink, Cherry Road, Thera, St. Joseph’s, enable, ELCAP and Local Area Coordination. - ECPv6.15.20//NONSGML v1.0//EN
CALSCALE:GREGORIAN
METHOD:PUBLISH
X-ORIGINAL-URL:https://thesocialprogramme.com
X-WR-CALDESC:Events for A partnership between Artlink, Cherry Road, Thera, St. Joseph’s, enable, ELCAP and Local Area Coordination.
REFRESH-INTERVAL;VALUE=DURATION:PT1H
X-Robots-Tag:noindex
X-PUBLISHED-TTL:PT1H
BEGIN:VTIMEZONE
TZID:UTC
BEGIN:STANDARD
TZOFFSETFROM:+0000
TZOFFSETTO:+0000
TZNAME:UTC
DTSTART:20250101T000000
END:STANDARD
END:VTIMEZONE
BEGIN:VEVENT
DTSTART;TZID=UTC:20260326T150000
DTEND;TZID=UTC:20260326T154000
DTSTAMP:20260423T185903
CREATED:20260212T135019Z
LAST-MODIFIED:20260212T135019Z
UID:2635-1774537200-1774539600@thesocialprogramme.com
SUMMARY:Thursday Live - KIC Dance
DESCRIPTION:
URL:https://thesocialprogramme.com/event/thursday-live-kic-dance/
LOCATION:Penicuik Town Hall\,\, 33 High Street\, Penicuik\, EH26 8HS
ATTACH;FMTTYPE=image/jpeg:https://thesocialprogramme.com/wp-content/uploads/2025/01/TSP_TL_BOX.jpg
END:VEVENT
END:VCALENDAR